Package: Dune Version: 1.19.0 Command: chmod a+r Dune -R && E:\biocbuild\bbs-3.21-bioc\R\bin\R.exe CMD build --keep-empty-dirs --no-resave-data Dune StartedAt: 2025-02-09 18:28:47 -0500 (Sun, 09 Feb 2025) EndedAt: 2025-02-09 18:29:46 -0500 (Sun, 09 Feb 2025) EllapsedTime: 58.9 seconds RetCode: 0 Status: OK PackageFile: Dune_1.19.0.tar.gz PackageFileSize: 1.003 MiB