Package: Dune Version: 1.19.0 Command: E:\biocbuild\bbs-3.21-bioc\R\bin\R.exe CMD INSTALL Dune StartedAt: 2025-02-03 16:21:15 -0500 (Mon, 03 Feb 2025) EndedAt: 2025-02-03 16:21:49 -0500 (Mon, 03 Feb 2025) EllapsedTime: 34.5 seconds RetCode: 0 Status: OK