Package: DuplexDiscovereR Version: 1.1.1 Command: /Library/Frameworks/R.framework/Resources/bin/R CMD build --keep-empty-dirs --no-resave-data DuplexDiscovereR StartedAt: 2025-02-09 16:11:42 -0500 (Sun, 09 Feb 2025) EndedAt: 2025-02-09 16:12:33 -0500 (Sun, 09 Feb 2025) EllapsedTime: 50.5 seconds RetCode: 0 Status: OK PackageFile: DuplexDiscovereR_1.1.1.tar.gz PackageFileSize: 998.8 KiB