Package: DuplexDiscovereR Version: 1.1.1 Command: /Library/Frameworks/R.framework/Resources/bin/R CMD check --install=check:DuplexDiscovereR.install-out.txt --library=/Library/Frameworks/R.framework/Resources/library --no-vignettes --timings DuplexDiscovereR_1.1.1.tar.gz StartedAt: 2025-02-09 19:02:35 -0500 (Sun, 09 Feb 2025) EndedAt: 2025-02-09 19:05:25 -0500 (Sun, 09 Feb 2025) EllapsedTime: 170.1 seconds RetCode: 0 Status: OK CheckDir: DuplexDiscovereR.Rcheck Warnings: 0