Package: DuplexDiscovereR Version: 1.1.1 Command: /home/biocbuild/R/R/bin/R CMD build --keep-empty-dirs --no-resave-data DuplexDiscovereR StartedAt: 2025-01-28 22:36:56 -0000 (Tue, 28 Jan 2025) EndedAt: 2025-01-28 22:39:50 -0000 (Tue, 28 Jan 2025) EllapsedTime: 174.1 seconds RetCode: 0 Status: OK PackageFile: DuplexDiscovereR_1.1.1.tar.gz PackageFileSize: 1.02 MiB