Package: DuplexDiscovereR Version: 1.1.1 Command: /home/biocbuild/R/R/bin/R CMD INSTALL DuplexDiscovereR StartedAt: 2025-01-29 20:32:21 -0000 (Wed, 29 Jan 2025) EndedAt: 2025-01-29 20:34:15 -0000 (Wed, 29 Jan 2025) EllapsedTime: 113.7 seconds RetCode: 0 Status: OK