Package: DuplexDiscovereR Version: 1.1.1 Command: rm -rf DuplexDiscovereR.buildbin-libdir && mkdir DuplexDiscovereR.buildbin-libdir && /Users/biocbuild/BBS/utils/build-universal.sh DuplexDiscovereR_1.1.1.tar.gz /Library/Frameworks/R.framework/Resources/bin/R DuplexDiscovereR.buildbin-libdir StartedAt: 2025-02-10 00:51:35 -0500 (Mon, 10 Feb 2025) EndedAt: 2025-02-10 00:53:27 -0500 (Mon, 10 Feb 2025) EllapsedTime: 112.3 seconds RetCode: 0 Status: OK PackageFile: DuplexDiscovereR_1.1.1.tgz PackageFileSize: 1.541 MiB