Package: DuplexDiscovereR Version: 1.1.1 Command: /Library/Frameworks/R.framework/Resources/bin/R CMD build --keep-empty-dirs --no-resave-data DuplexDiscovereR StartedAt: 2025-02-12 16:35:52 -0500 (Wed, 12 Feb 2025) EndedAt: 2025-02-12 16:38:07 -0500 (Wed, 12 Feb 2025) EllapsedTime: 135.0 seconds RetCode: 0 Status: OK PackageFile: DuplexDiscovereR_1.1.1.tar.gz PackageFileSize: 998.6 KiB