Package: DuplexDiscovereR Version: 1.1.1 Command: /Library/Frameworks/R.framework/Resources/bin/R CMD INSTALL DuplexDiscovereR StartedAt: 2025-02-09 15:42:40 -0500 (Sun, 09 Feb 2025) EndedAt: 2025-02-09 15:44:30 -0500 (Sun, 09 Feb 2025) EllapsedTime: 109.6 seconds RetCode: 0 Status: OK