Package: DuplexDiscovereR Version: 1.1.1 Command: /home/biocbuild/bbs-3.21-bioc/R/bin/R CMD build --keep-empty-dirs --no-resave-data DuplexDiscovereR StartedAt: 2025-02-09 17:05:10 -0500 (Sun, 09 Feb 2025) EndedAt: 2025-02-09 17:07:20 -0500 (Sun, 09 Feb 2025) EllapsedTime: 130.2 seconds RetCode: 0 Status: OK PackageFile: DuplexDiscovereR_1.1.1.tar.gz PackageFileSize: 1016 KiB