Package: DuplexDiscovereR Version: 1.1.1 Command: /home/biocbuild/bbs-3.21-bioc/R/bin/R CMD INSTALL DuplexDiscovereR StartedAt: 2025-02-09 15:46:53 -0500 (Sun, 09 Feb 2025) EndedAt: 2025-02-09 15:48:20 -0500 (Sun, 09 Feb 2025) EllapsedTime: 87.4 seconds RetCode: 0 Status: OK