Package: DuplexDiscovereR Version: 1.1.1 Command: rm -rf DuplexDiscovereR.buildbin-libdir && mkdir DuplexDiscovereR.buildbin-libdir && E:\biocbuild\bbs-3.21-bioc\R\bin\R.exe CMD INSTALL --build --library=DuplexDiscovereR.buildbin-libdir DuplexDiscovereR_1.1.1.tar.gz StartedAt: 2025-02-05 07:51:51 -0500 (Wed, 05 Feb 2025) EndedAt: 2025-02-05 07:55:36 -0500 (Wed, 05 Feb 2025) EllapsedTime: 225.2 seconds RetCode: 0 Status: OK PackageFile: DuplexDiscovereR_1.1.1.zip PackageFileSize: 1.516 MiB