Package: DuplexDiscovereR Version: 1.1.1 Command: chmod a+r DuplexDiscovereR -R && E:\biocbuild\bbs-3.21-bioc\R\bin\R.exe CMD build --keep-empty-dirs --no-resave-data DuplexDiscovereR StartedAt: 2025-02-04 18:30:26 -0500 (Tue, 04 Feb 2025) EndedAt: 2025-02-04 18:33:19 -0500 (Tue, 04 Feb 2025) EllapsedTime: 172.9 seconds RetCode: 0 Status: OK PackageFile: DuplexDiscovereR_1.1.1.tar.gz PackageFileSize: 975.8 KiB