Package: DuplexDiscovereR Version: 1.1.1 Command: E:\biocbuild\bbs-3.21-bioc\R\bin\R.exe CMD check --no-multiarch --install=check:DuplexDiscovereR.install-out.txt --library=E:\biocbuild\bbs-3.21-bioc\R\library --no-vignettes --timings DuplexDiscovereR_1.1.1.tar.gz StartedAt: 2025-02-05 01:10:36 -0500 (Wed, 05 Feb 2025) EndedAt: 2025-02-05 01:19:21 -0500 (Wed, 05 Feb 2025) EllapsedTime: 525.2 seconds RetCode: 0 Status: OK CheckDir: DuplexDiscovereR.Rcheck Warnings: 0