Package: DuplexDiscovereR Version: 1.1.1 Command: E:\biocbuild\bbs-3.21-bioc\R\bin\R.exe CMD INSTALL DuplexDiscovereR StartedAt: 2025-02-04 16:51:54 -0500 (Tue, 04 Feb 2025) EndedAt: 2025-02-04 16:55:11 -0500 (Tue, 04 Feb 2025) EllapsedTime: 196.7 seconds RetCode: 0 Status: OK