Package: DynDoc Version: 1.85.0 Command: rm -rf DynDoc.buildbin-libdir && mkdir DynDoc.buildbin-libdir && /Users/biocbuild/BBS/utils/build-universal.sh DynDoc_1.85.0.tar.gz /Library/Frameworks/R.framework/Resources/bin/R DynDoc.buildbin-libdir StartedAt: 2025-02-03 22:48:52 -0500 (Mon, 03 Feb 2025) EndedAt: 2025-02-03 22:48:54 -0500 (Mon, 03 Feb 2025) EllapsedTime: 2.0 seconds RetCode: 0 Status: OK PackageFile: DynDoc_1.85.0.tgz PackageFileSize: 218.2 KiB