Package: DynDoc Version: 1.85.0 Command: /Library/Frameworks/R.framework/Resources/bin/R CMD build --keep-empty-dirs --no-resave-data DynDoc StartedAt: 2025-02-09 16:11:56 -0500 (Sun, 09 Feb 2025) EndedAt: 2025-02-09 16:11:57 -0500 (Sun, 09 Feb 2025) EllapsedTime: 1.0 seconds RetCode: 0 Status: OK PackageFile: DynDoc_1.85.0.tar.gz PackageFileSize: 10.96 KiB