Package: DynDoc Version: 1.85.0 Command: /Library/Frameworks/R.framework/Resources/bin/R CMD INSTALL DynDoc StartedAt: 2025-02-03 15:36:08 -0500 (Mon, 03 Feb 2025) EndedAt: 2025-02-03 15:36:09 -0500 (Mon, 03 Feb 2025) EllapsedTime: 1.1 seconds RetCode: 0 Status: OK