Package: DynDoc Version: 1.85.0 Command: /home/biocbuild/R/R/bin/R CMD build --keep-empty-dirs --no-resave-data DynDoc StartedAt: 2025-01-28 22:37:22 -0000 (Tue, 28 Jan 2025) EndedAt: 2025-01-28 22:37:23 -0000 (Tue, 28 Jan 2025) EllapsedTime: 1.0 seconds RetCode: 0 Status: OK PackageFile: DynDoc_1.85.0.tar.gz PackageFileSize: 10.96 KiB