Package: DynDoc Version: 1.85.0 Command: /home/biocbuild/R/R/bin/R CMD INSTALL DynDoc StartedAt: 2025-01-29 19:29:49 -0000 (Wed, 29 Jan 2025) EndedAt: 2025-01-29 19:30:05 -0000 (Wed, 29 Jan 2025) EllapsedTime: 15.9 seconds RetCode: 0 Status: OK