Package: DynDoc Version: 1.85.0 Command: /Library/Frameworks/R.framework/Resources/bin/R CMD INSTALL DynDoc StartedAt: 2025-02-09 15:03:32 -0500 (Sun, 09 Feb 2025) EndedAt: 2025-02-09 15:03:54 -0500 (Sun, 09 Feb 2025) EllapsedTime: 22.3 seconds RetCode: 0 Status: OK