Package: DynDoc Version: 1.85.0 Command: /home/biocbuild/bbs-3.21-bioc/R/bin/R CMD build --keep-empty-dirs --no-resave-data DynDoc StartedAt: 2025-02-03 17:14:22 -0500 (Mon, 03 Feb 2025) EndedAt: 2025-02-03 17:14:23 -0500 (Mon, 03 Feb 2025) EllapsedTime: 1.0 seconds RetCode: 0 Status: OK PackageFile: DynDoc_1.85.0.tar.gz PackageFileSize: 10.96 KiB