Package: DynDoc Version: 1.85.0 Command: /home/biocbuild/bbs-3.21-bioc/R/bin/R CMD INSTALL DynDoc StartedAt: 2025-02-03 15:12:05 -0500 (Mon, 03 Feb 2025) EndedAt: 2025-02-03 15:12:09 -0500 (Mon, 03 Feb 2025) EllapsedTime: 3.9 seconds RetCode: 0 Status: OK