Package: DynDoc Version: 1.85.0 Command: rm -rf DynDoc.buildbin-libdir && mkdir DynDoc.buildbin-libdir && E:\biocbuild\bbs-3.21-bioc\R\bin\R.exe CMD INSTALL --build --library=DynDoc.buildbin-libdir DynDoc_1.85.0.tar.gz StartedAt: 2025-02-10 07:40:01 -0500 (Mon, 10 Feb 2025) EndedAt: 2025-02-10 07:40:26 -0500 (Mon, 10 Feb 2025) EllapsedTime: 25.1 seconds RetCode: 0 Status: OK PackageFile: DynDoc_1.85.0.zip PackageFileSize: 219.2 KiB