Package: DynDoc Version: 1.85.0 Command: chmod a+r DynDoc -R && E:\biocbuild\bbs-3.21-bioc\R\bin\R.exe CMD build --keep-empty-dirs --no-resave-data DynDoc StartedAt: 2025-02-03 18:41:13 -0500 (Mon, 03 Feb 2025) EndedAt: 2025-02-03 18:41:16 -0500 (Mon, 03 Feb 2025) EllapsedTime: 3.0 seconds RetCode: 0 Status: OK PackageFile: DynDoc_1.85.0.tar.gz PackageFileSize: 10.98 KiB