Package: DynDoc Version: 1.85.0 Command: E:\biocbuild\bbs-3.21-bioc\R\bin\R.exe CMD check --no-multiarch --install=check:DynDoc.install-out.txt --library=E:\biocbuild\bbs-3.21-bioc\R\library --no-vignettes --timings DynDoc_1.85.0.tar.gz StartedAt: 2025-02-10 00:42:59 -0500 (Mon, 10 Feb 2025) EndedAt: 2025-02-10 00:43:27 -0500 (Mon, 10 Feb 2025) EllapsedTime: 27.3 seconds RetCode: 0 Status: WARNINGS CheckDir: DynDoc.Rcheck Warnings: 1