Package: DynDoc Version: 1.85.0 Command: E:\biocbuild\bbs-3.21-bioc\R\bin\R.exe CMD INSTALL DynDoc StartedAt: 2025-02-03 15:31:37 -0500 (Mon, 03 Feb 2025) EndedAt: 2025-02-03 15:32:03 -0500 (Mon, 03 Feb 2025) EllapsedTime: 25.6 seconds RetCode: 0 Status: OK