Package: EBImage Version: 4.49.0 Command: /Library/Frameworks/R.framework/Resources/bin/R CMD check --install=check:EBImage.install-out.txt --library=/Library/Frameworks/R.framework/Resources/library --no-vignettes --timings EBImage_4.49.0.tar.gz StartedAt: 2025-02-09 19:03:48 -0500 (Sun, 09 Feb 2025) EndedAt: 2025-02-09 19:04:20 -0500 (Sun, 09 Feb 2025) EllapsedTime: 32.4 seconds RetCode: 0 Status: OK CheckDir: EBImage.Rcheck Warnings: 0