Package: EBImage Version: 4.49.0 Command: /home/biocbuild/R/R/bin/R CMD build --keep-empty-dirs --no-resave-data EBImage StartedAt: 2025-01-28 22:38:22 -0000 (Tue, 28 Jan 2025) EndedAt: 2025-01-28 22:39:12 -0000 (Tue, 28 Jan 2025) EllapsedTime: 50.0 seconds RetCode: 0 Status: OK PackageFile: EBImage_4.49.0.tar.gz PackageFileSize: 4.681 MiB