Package: EBImage Version: 4.49.0 Command: /home/biocbuild/R/R/bin/R CMD INSTALL EBImage StartedAt: 2025-01-29 20:04:52 -0000 (Wed, 29 Jan 2025) EndedAt: 2025-01-29 20:05:11 -0000 (Wed, 29 Jan 2025) EllapsedTime: 18.3 seconds RetCode: 0 Status: OK