Package: EBImage Version: 4.49.0 Command: rm -rf EBImage.buildbin-libdir && mkdir EBImage.buildbin-libdir && /Users/biocbuild/BBS/utils/build-universal.sh EBImage_4.49.0.tar.gz /Library/Frameworks/R.framework/Resources/bin/R EBImage.buildbin-libdir StartedAt: 2025-02-10 00:51:47 -0500 (Mon, 10 Feb 2025) EndedAt: 2025-02-10 00:52:11 -0500 (Mon, 10 Feb 2025) EllapsedTime: 24.2 seconds RetCode: 0 Status: OK PackageFile: EBImage_4.49.0.tgz PackageFileSize: 6.661 MiB