Package: EBImage Version: 4.49.0 Command: /Library/Frameworks/R.framework/Resources/bin/R CMD build --keep-empty-dirs --no-resave-data EBImage StartedAt: 2025-02-09 16:38:31 -0500 (Sun, 09 Feb 2025) EndedAt: 2025-02-09 16:39:14 -0500 (Sun, 09 Feb 2025) EllapsedTime: 42.4 seconds RetCode: 0 Status: OK PackageFile: EBImage_4.49.0.tar.gz PackageFileSize: 6.296 MiB