Package: EBImage Version: 4.49.0 Command: /Library/Frameworks/R.framework/Resources/bin/R CMD INSTALL EBImage StartedAt: 2025-02-09 15:24:06 -0500 (Sun, 09 Feb 2025) EndedAt: 2025-02-09 15:24:26 -0500 (Sun, 09 Feb 2025) EllapsedTime: 19.7 seconds RetCode: 0 Status: OK