Package: EBImage Version: 4.49.0 Command: rm -rf EBImage.buildbin-libdir && mkdir EBImage.buildbin-libdir && E:\biocbuild\bbs-3.21-bioc\R\bin\R.exe CMD INSTALL --build --library=EBImage.buildbin-libdir EBImage_4.49.0.tar.gz StartedAt: 2025-02-05 07:52:11 -0500 (Wed, 05 Feb 2025) EndedAt: 2025-02-05 07:53:28 -0500 (Wed, 05 Feb 2025) EllapsedTime: 76.8 seconds RetCode: 0 Status: OK PackageFile: EBImage_4.49.0.zip PackageFileSize: 5.621 MiB