Package: EBImage Version: 4.49.0 Command: E:\biocbuild\bbs-3.21-bioc\R\bin\R.exe CMD INSTALL EBImage StartedAt: 2025-02-04 15:33:46 -0500 (Tue, 04 Feb 2025) EndedAt: 2025-02-04 15:34:45 -0500 (Tue, 04 Feb 2025) EllapsedTime: 58.8 seconds RetCode: 0 Status: OK