Package: EBSEA Version: 1.35.0 Command: rm -rf EBSEA.buildbin-libdir && mkdir EBSEA.buildbin-libdir && /Users/biocbuild/BBS/utils/build-universal.sh EBSEA_1.35.0.tar.gz /Library/Frameworks/R.framework/Resources/bin/R EBSEA.buildbin-libdir StartedAt: 2025-02-03 22:48:58 -0500 (Mon, 03 Feb 2025) EndedAt: 2025-02-03 22:49:09 -0500 (Mon, 03 Feb 2025) EllapsedTime: 11.2 seconds RetCode: 0 Status: OK PackageFile: EBSEA_1.35.0.tgz PackageFileSize: 76.4 KiB