Package: EBSEA Version: 1.35.0 Command: /Library/Frameworks/R.framework/Resources/bin/R CMD build --keep-empty-dirs --no-resave-data EBSEA StartedAt: 2025-02-03 16:49:32 -0500 (Mon, 03 Feb 2025) EndedAt: 2025-02-03 16:49:47 -0500 (Mon, 03 Feb 2025) EllapsedTime: 15.2 seconds RetCode: 0 Status: OK PackageFile: EBSEA_1.35.0.tar.gz PackageFileSize: 56.16 KiB