Package: EBSEA Version: 1.35.0 Command: rm -rf EBSEA.buildbin-libdir && mkdir EBSEA.buildbin-libdir && /Users/biocbuild/BBS/utils/build-universal.sh EBSEA_1.35.0.tar.gz /Library/Frameworks/R.framework/Resources/bin/R EBSEA.buildbin-libdir StartedAt: 2025-02-10 00:51:47 -0500 (Mon, 10 Feb 2025) EndedAt: 2025-02-10 00:52:22 -0500 (Mon, 10 Feb 2025) EllapsedTime: 35.7 seconds RetCode: 0 Status: OK PackageFile: EBSEA_1.35.0.tgz PackageFileSize: 76.12 KiB