Package: EBSEA Version: 1.35.0 Command: /Library/Frameworks/R.framework/Resources/bin/R CMD build --keep-empty-dirs --no-resave-data EBSEA StartedAt: 2025-02-09 16:38:33 -0500 (Sun, 09 Feb 2025) EndedAt: 2025-02-09 16:39:14 -0500 (Sun, 09 Feb 2025) EllapsedTime: 41.3 seconds RetCode: 0 Status: OK PackageFile: EBSEA_1.35.0.tar.gz PackageFileSize: 56.24 KiB