Package: EBSEA Version: 1.35.0 Command: /Library/Frameworks/R.framework/Resources/bin/R CMD check --install=check:EBSEA.install-out.txt --library=/Library/Frameworks/R.framework/Resources/library --no-vignettes --timings EBSEA_1.35.0.tar.gz StartedAt: 2025-02-09 20:28:52 -0500 (Sun, 09 Feb 2025) EndedAt: 2025-02-09 20:32:03 -0500 (Sun, 09 Feb 2025) EllapsedTime: 190.9 seconds RetCode: 0 Status: OK CheckDir: EBSEA.Rcheck Warnings: 0