Package: EBSEA Version: 1.35.0 Command: /Library/Frameworks/R.framework/Resources/bin/R CMD INSTALL EBSEA StartedAt: 2025-02-09 15:16:03 -0500 (Sun, 09 Feb 2025) EndedAt: 2025-02-09 15:16:42 -0500 (Sun, 09 Feb 2025) EllapsedTime: 39.5 seconds RetCode: 0 Status: OK