Package: EBSEA Version: 1.35.0 Command: /home/biocbuild/bbs-3.21-bioc/R/bin/R CMD build --keep-empty-dirs --no-resave-data EBSEA StartedAt: 2025-02-09 17:06:00 -0500 (Sun, 09 Feb 2025) EndedAt: 2025-02-09 17:06:38 -0500 (Sun, 09 Feb 2025) EllapsedTime: 38.1 seconds RetCode: 0 Status: OK PackageFile: EBSEA_1.35.0.tar.gz PackageFileSize: 51.47 KiB