Package: EBSEA Version: 1.35.0 Command: rm -rf EBSEA.buildbin-libdir && mkdir EBSEA.buildbin-libdir && E:\biocbuild\bbs-3.21-bioc\R\bin\R.exe CMD INSTALL --build --library=EBSEA.buildbin-libdir EBSEA_1.35.0.tar.gz StartedAt: 2025-02-10 07:40:16 -0500 (Mon, 10 Feb 2025) EndedAt: 2025-02-10 07:40:50 -0500 (Mon, 10 Feb 2025) EllapsedTime: 34.2 seconds RetCode: 0 Status: OK PackageFile: EBSEA_1.35.0.zip PackageFileSize: 55.14 KiB