Package: EBSEA Version: 1.35.0 Command: chmod a+r EBSEA -R && E:\biocbuild\bbs-3.21-bioc\R\bin\R.exe CMD build --keep-empty-dirs --no-resave-data EBSEA StartedAt: 2025-02-03 18:41:58 -0500 (Mon, 03 Feb 2025) EndedAt: 2025-02-03 18:42:42 -0500 (Mon, 03 Feb 2025) EllapsedTime: 43.5 seconds RetCode: 0 Status: OK PackageFile: EBSEA_1.35.0.tar.gz PackageFileSize: 31.38 KiB