Package: EBSEA Version: 1.35.0 Command: E:\biocbuild\bbs-3.21-bioc\R\bin\R.exe CMD INSTALL EBSEA StartedAt: 2025-02-09 16:13:23 -0500 (Sun, 09 Feb 2025) EndedAt: 2025-02-09 16:13:53 -0500 (Sun, 09 Feb 2025) EllapsedTime: 30.1 seconds RetCode: 0 Status: OK