Package: EBarrays Version: 2.71.0 Command: rm -rf EBarrays.buildbin-libdir && mkdir EBarrays.buildbin-libdir && /Users/biocbuild/BBS/utils/build-universal.sh EBarrays_2.71.0.tar.gz /Library/Frameworks/R.framework/Resources/bin/R EBarrays.buildbin-libdir StartedAt: 2025-02-09 22:13:03 -0500 (Sun, 09 Feb 2025) EndedAt: 2025-02-09 22:13:08 -0500 (Sun, 09 Feb 2025) EllapsedTime: 4.1 seconds RetCode: 0 Status: OK PackageFile: EBarrays_2.71.0.tgz PackageFileSize: 1.27 MiB