Package: EBarrays Version: 2.71.0 Command: /Library/Frameworks/R.framework/Resources/bin/R CMD check --install=check:EBarrays.install-out.txt --library=/Library/Frameworks/R.framework/Resources/library --no-vignettes --timings EBarrays_2.71.0.tar.gz StartedAt: 2025-02-09 19:03:34 -0500 (Sun, 09 Feb 2025) EndedAt: 2025-02-09 19:03:53 -0500 (Sun, 09 Feb 2025) EllapsedTime: 19.2 seconds RetCode: 0 Status: OK CheckDir: EBarrays.Rcheck Warnings: 0