Package: EBarrays Version: 2.71.0 Command: /home/biocbuild/bbs-3.21-bioc/R/bin/R CMD check --install=check:EBarrays.install-out.txt --library=/home/biocbuild/bbs-3.21-bioc/R/site-library --timings EBarrays_2.71.0.tar.gz StartedAt: 2025-02-09 21:58:59 -0500 (Sun, 09 Feb 2025) EndedAt: 2025-02-09 21:59:49 -0500 (Sun, 09 Feb 2025) EllapsedTime: 50.1 seconds RetCode: 0 Status: OK CheckDir: EBarrays.Rcheck Warnings: 0