Package: EBarrays Version: 2.71.0 Command: /home/biocbuild/bbs-3.21-bioc/R/bin/R CMD INSTALL EBarrays StartedAt: 2025-02-09 15:12:26 -0500 (Sun, 09 Feb 2025) EndedAt: 2025-02-09 15:12:31 -0500 (Sun, 09 Feb 2025) EllapsedTime: 4.9 seconds RetCode: 0 Status: OK