Package: EBarrays Version: 2.71.0 Command: rm -rf EBarrays.buildbin-libdir && mkdir EBarrays.buildbin-libdir && E:\biocbuild\bbs-3.21-bioc\R\bin\R.exe CMD INSTALL --build --library=EBarrays.buildbin-libdir EBarrays_2.71.0.tar.gz StartedAt: 2025-02-10 07:40:12 -0500 (Mon, 10 Feb 2025) EndedAt: 2025-02-10 07:40:32 -0500 (Mon, 10 Feb 2025) EllapsedTime: 20.0 seconds RetCode: 0 Status: OK PackageFile: EBarrays_2.71.0.zip PackageFileSize: 1.159 MiB